BEGIN:VCALENDAR
VERSION:2.0
PRODID:-//SCFDOA - ECPv6.15.20//NONSGML v1.0//EN
CALSCALE:GREGORIAN
METHOD:PUBLISH
X-WR-CALNAME:SCFDOA
X-ORIGINAL-URL:https://scfdoa.com
X-WR-CALDESC:Events for SCFDOA
REFRESH-INTERVAL;VALUE=DURATION:PT1H
X-Robots-Tag:noindex
X-PUBLISHED-TTL:PT1H
BEGIN:VTIMEZONE
TZID:America/New_York
BEGIN:DAYLIGHT
TZOFFSETFROM:-0500
TZOFFSETTO:-0400
TZNAME:EDT
DTSTART:20250309T070000
END:DAYLIGHT
BEGIN:STANDARD
TZOFFSETFROM:-0400
TZOFFSETTO:-0500
TZNAME:EST
DTSTART:20251102T060000
END:STANDARD
BEGIN:DAYLIGHT
TZOFFSETFROM:-0500
TZOFFSETTO:-0400
TZNAME:EDT
DTSTART:20260308T070000
END:DAYLIGHT
BEGIN:STANDARD
TZOFFSETFROM:-0400
TZOFFSETTO:-0500
TZNAME:EST
DTSTART:20261101T060000
END:STANDARD
BEGIN:DAYLIGHT
TZOFFSETFROM:-0500
TZOFFSETTO:-0400
TZNAME:EDT
DTSTART:20270314T070000
END:DAYLIGHT
BEGIN:STANDARD
TZOFFSETFROM:-0400
TZOFFSETTO:-0500
TZNAME:EST
DTSTART:20271107T060000
END:STANDARD
END:VTIMEZONE
BEGIN:VEVENT
DTSTART;TZID=America/New_York:20260521T190000
DTEND;TZID=America/New_York:20260521T210000
DTSTAMP:20260420T152218
CREATED:20251024T204059Z
LAST-MODIFIED:20251024T211734Z
UID:899-1779390000-1779397200@scfdoa.com
SUMMARY:Regular Meeting
DESCRIPTION:Dinner at 7:00pm \nMeeting at 8:00pm
URL:https://scfdoa.com/event/regular-meeting/
LOCATION:Manorville Fire Department\, 16 Silas Carter Road\, Manorville\, NY\, 11949
END:VEVENT
BEGIN:VEVENT
DTSTART;TZID=America/New_York:20261119T190000
DTEND;TZID=America/New_York:20261119T210000
DTSTAMP:20260420T152218
CREATED:20251024T210722Z
LAST-MODIFIED:20251024T210722Z
UID:902-1795114800-1795122000@scfdoa.com
SUMMARY:Regular Meeting
DESCRIPTION:
URL:https://scfdoa.com/event/regular-meeting-2/
LOCATION:East Quogue Fire Department\, 465 Montauk Highway\, East Quogue\, NY\, 11942
END:VEVENT
END:VCALENDAR